BEGIN:VCALENDAR
VERSION:2.0
PRODID:-//peter barakan dot net - ECPv4.6.26//NONSGML v1.0//EN
CALSCALE:GREGORIAN
METHOD:PUBLISH
X-WR-CALNAME:peter barakan dot net
X-ORIGINAL-URL:https://peterbarakan.net
X-WR-CALDESC:Events for peter barakan dot net
BEGIN:VEVENT
DTSTART;TZID=Asia/Tokyo:20250322T090000
DTEND;TZID=Asia/Tokyo:20250322T160000
DTSTAMP:20260419T181300
CREATED:20250226T045607Z
LAST-MODIFIED:20250226T045607Z
UID:6687-1742634000-1742659200@peterbarakan.net
SUMMARY:『ラジオ100年 音楽とともに』
DESCRIPTION:日本でラジオが誕生して100年。その記念番組の司会を務めることになりました。 \n
URL:https://peterbarakan.net/event/%e3%80%8e%e3%83%a9%e3%82%b8%e3%82%aa100%e5%b9%b4-%e9%9f%b3%e6%a5%bd%e3%81%a8%e3%81%a8%e3%82%82%e3%81%ab%e3%80%8f
CATEGORIES:radio
END:VEVENT
END:VCALENDAR