BEGIN:VCALENDAR
VERSION:2.0
PRODID:-//peter barakan dot net - ECPv4.6.26//NONSGML v1.0//EN
CALSCALE:GREGORIAN
METHOD:PUBLISH
X-WR-CALNAME:peter barakan dot net
X-ORIGINAL-URL:https://peterbarakan.net
X-WR-CALDESC:Events for peter barakan dot net
BEGIN:VEVENT
DTSTART;TZID=Asia/Tokyo:20200808T170000
DTEND;TZID=Asia/Tokyo:20200808T190000
DTSTAMP:20260424T045557
CREATED:20200727T232118Z
LAST-MODIFIED:20200727T232118Z
UID:3747-1596906000-1596913200@peterbarakan.net
SUMMARY:オンライン出前DJ
DESCRIPTION:これは初体験になります。東京の人間が「お呼びでない」この時期にはイヴェントが成立しにくいのはしかたがないことです。そこでいつも九州に呼んでくれる飯田さんからのお誘いでオンラインの出前DJをやってみることになりました。 \nぼくはオンラインで話し、誰でもどこでもそれをオンラインで受けることができますし、またいくつかの会場で、ちゃんといい音で曲を聞くことができます。詳細はこちらです。 \nhttp://tiget.net/events/98499 \nテーマは直前に出版されるぼくの新著「Taking Stock – ぼくがどうしても手放せない21世紀の愛聴盤」から選んだ曲です。最後に各会場に足を運んだ方々との質疑応答の時間も設けます。 \n
URL:https://peterbarakan.net/event/%e3%82%aa%e3%83%b3%e3%83%a9%e3%82%a4%e3%83%b3%e5%87%ba%e5%89%8ddj
CATEGORIES:events
END:VEVENT
END:VCALENDAR