BEGIN:VCALENDAR
VERSION:2.0
PRODID:-//peter barakan dot net - ECPv4.6.26//NONSGML v1.0//EN
CALSCALE:GREGORIAN
METHOD:PUBLISH
X-WR-CALNAME:peter barakan dot net
X-ORIGINAL-URL:https://peterbarakan.net
X-WR-CALDESC:Events for peter barakan dot net
BEGIN:VEVENT
DTSTART;TZID=Asia/Tokyo:20250429T160000
DTEND;TZID=Asia/Tokyo:20250429T190000
DTSTAMP:20260420T001704
CREATED:20250324T031342Z
LAST-MODIFIED:20250324T031342Z
UID:6772-1745942400-1745953200@peterbarakan.net
SUMMARY:トーク＠横浜
DESCRIPTION:初めて行くところです。前田健人（司会・聞き手）の質問に答えながら音楽を紹介します。また世福龍というバンドのライヴもあります。 \n
URL:https://peterbarakan.net/event/%e3%83%88%e3%83%bc%e3%82%af%ef%bc%a0%e6%a8%aa%e6%b5%9c
LOCATION:55 GO‼︎GO‼︎ (菓子工房KANON内)\, 横浜市中区山下町211-11\, 神奈川県\, 231-0023\, Japan
CATEGORIES:events
END:VEVENT
END:VCALENDAR