BEGIN:VCALENDAR
VERSION:2.0
PRODID:-//peter barakan dot net - ECPv4.6.26//NONSGML v1.0//EN
CALSCALE:GREGORIAN
METHOD:PUBLISH
X-WR-CALNAME:peter barakan dot net
X-ORIGINAL-URL:https://peterbarakan.net
X-WR-CALDESC:Events for peter barakan dot net
BEGIN:VEVENT
DTSTART;TZID=Asia/Tokyo:20200408T190000
DTEND;TZID=Asia/Tokyo:20200408T210000
DTSTAMP:20260423T100510
CREATED:20200405T072400Z
LAST-MODIFIED:20200405T072400Z
UID:3601-1586372400-1586379600@peterbarakan.net
SUMMARY:ハリー・スミスは語る
DESCRIPTION:この前出版された「ハリー・スミスは語る」というインタヴュー集に関連したトーク・イヴェントです。時期が時期なのでお客さんを入れず、Dommune（https://www.dommune.com/）で生配信されます。 \n因みに本の裏表紙にぼくが寄せたコメント： \n我々が持っているルーツ・ミュージックの概念は、ロックンロール以前の1950年代初頭にハリー・スミスが編纂した「アンソロジー・オヴ・アメリカン・フォーク・ミュージック」から生まれたと言ってもいいほどです。このインタヴュー集を読むと彼の博学ぶりに驚くと同時に、天才にありがちな「紙一重」的な脱線力（？）に感心します。話について行こうとするのは無駄、その行間からふんだんに蒔かれている種を拾うだけで十分だと思います。\n
URL:https://peterbarakan.net/event/%e3%83%8f%e3%83%aa%e3%83%bc%e3%83%bb%e3%82%b9%e3%83%9f%e3%82%b9%e3%81%af%e8%aa%9e%e3%82%8b
CATEGORIES:events
END:VEVENT
END:VCALENDAR