BEGIN:VCALENDAR
VERSION:2.0
PRODID:-//peter barakan dot net - ECPv4.6.26//NONSGML v1.0//EN
CALSCALE:GREGORIAN
METHOD:PUBLISH
X-WR-CALNAME:peter barakan dot net
X-ORIGINAL-URL:https://peterbarakan.net
X-WR-CALDESC:Events for peter barakan dot net
BEGIN:VEVENT
DTSTART;TZID=Asia/Tokyo:20240304T170000
DTEND;TZID=Asia/Tokyo:20240304T191000
DTSTAMP:20260424T132531
CREATED:20240213T034018Z
LAST-MODIFIED:20240213T034018Z
UID:6027-1709571600-1709579400@peterbarakan.net
SUMMARY:映画上映＋トーク
DESCRIPTION:リトル・リチャードに関するドキュメンタリー映画I Am Everythingを上映する前にGeorge Cockleと二人で話をします。 \n
URL:https://peterbarakan.net/event/%e6%98%a0%e7%94%bb%e4%b8%8a%e6%98%a0%ef%bc%8b%e3%83%88%e3%83%bc%e3%82%af-2
LOCATION:ムービル\, 横浜市西区南幸2-1-22\, 相鉄ムービル内\, 神奈川県\, 220-0005\, Japan
CATEGORIES:events
END:VEVENT
END:VCALENDAR