BEGIN:VCALENDAR
VERSION:2.0
PRODID:-//peter barakan dot net - ECPv4.6.26//NONSGML v1.0//EN
CALSCALE:GREGORIAN
METHOD:PUBLISH
X-WR-CALNAME:peter barakan dot net
X-ORIGINAL-URL:https://peterbarakan.net
X-WR-CALDESC:Events for peter barakan dot net
BEGIN:VEVENT
DTSTART;TZID=Asia/Tokyo:20240311T193000
DTEND;TZID=Asia/Tokyo:20240311T220000
DTSTAMP:20260421T150213
CREATED:20240213T052725Z
LAST-MODIFIED:20240213T052725Z
UID:6100-1710185400-1710194400@peterbarakan.net
SUMMARY:映画上映＋トーク
DESCRIPTION:現在もわずかに残る満州のシャーマンたちに関するドキュメンタリー映画『ロスト　マンチュリア　サマン』の上映後、監督の金 大偉さんと話をします。 \n
URL:https://peterbarakan.net/event/%e6%98%a0%e7%94%bb%e4%b8%8a%e6%98%a0%ef%bc%8b%e3%83%88%e3%83%bc%e3%82%af-6
LOCATION:代官山　晴れたら空に豆まいて\, 東京都渋谷区代官山町20-20 モンシェリー代官山B2\, 150-0034
CATEGORIES:events
END:VEVENT
END:VCALENDAR