BEGIN:VCALENDAR
VERSION:2.0
PRODID:-//peter barakan dot net - ECPv4.6.26//NONSGML v1.0//EN
CALSCALE:GREGORIAN
METHOD:PUBLISH
X-WR-CALNAME:peter barakan dot net
X-ORIGINAL-URL:https://peterbarakan.net
X-WR-CALDESC:Events for peter barakan dot net
BEGIN:VEVENT
DTSTART;TZID=Asia/Tokyo:20150628T180000
DTEND;TZID=Asia/Tokyo:20150628T200000
DTSTAMP:20260419T130157
CREATED:20150604T232943Z
LAST-MODIFIED:20150604T232943Z
UID:431-1435514400-1435521600@peterbarakan.net
SUMMARY:Barakan Beat
DESCRIPTION:
URL:https://peterbarakan.net/event/barakan-beat-10
CATEGORIES:radio
END:VEVENT
END:VCALENDAR