BEGIN:VCALENDAR
VERSION:2.0
PRODID:-//peter barakan dot net - ECPv4.6.26//NONSGML v1.0//EN
CALSCALE:GREGORIAN
METHOD:PUBLISH
X-WR-CALNAME:peter barakan dot net
X-ORIGINAL-URL:https://peterbarakan.net
X-WR-CALDESC:Events for peter barakan dot net
BEGIN:VEVENT
DTSTART;TZID=Asia/Tokyo:20200705T180000
DTEND;TZID=Asia/Tokyo:20200705T200000
DTSTAMP:20260423T184230
CREATED:20200624T064941Z
LAST-MODIFIED:20200624T064941Z
UID:3652-1593972000-1593979200@peterbarakan.net
SUMMARY:Barakan Beat
DESCRIPTION:
URL:https://peterbarakan.net/event/barakan-beat-263
CATEGORIES:radio
END:VEVENT
END:VCALENDAR