BEGIN:VCALENDAR
VERSION:2.0
PRODID:-//peter barakan dot net - ECPv4.6.26//NONSGML v1.0//EN
CALSCALE:GREGORIAN
METHOD:PUBLISH
X-WR-CALNAME:peter barakan dot net
X-ORIGINAL-URL:https://peterbarakan.net
X-WR-CALDESC:Events for peter barakan dot net
BEGIN:VEVENT
DTSTART;TZID=Asia/Tokyo:20231119T180000
DTEND;TZID=Asia/Tokyo:20231119T200000
DTSTAMP:20260425T122631
CREATED:20230922T031756Z
LAST-MODIFIED:20230922T031756Z
UID:5781-1700416800-1700424000@peterbarakan.net
SUMMARY:Barakan Beat
DESCRIPTION:
URL:https://peterbarakan.net/event/barakan-beat-443
CATEGORIES:radio
END:VEVENT
END:VCALENDAR