BEGIN:VCALENDAR
VERSION:2.0
PRODID:-//peter barakan dot net - ECPv4.6.26//NONSGML v1.0//EN
CALSCALE:GREGORIAN
METHOD:PUBLISH
X-WR-CALNAME:peter barakan dot net
X-ORIGINAL-URL:https://peterbarakan.net
X-WR-CALDESC:Events for peter barakan dot net
BEGIN:VEVENT
DTSTART;TZID=Asia/Tokyo:20250504T180000
DTEND;TZID=Asia/Tokyo:20250504T200000
DTSTAMP:20260420T001304
CREATED:20250324T025319Z
LAST-MODIFIED:20250324T025319Z
UID:6743-1746381600-1746388800@peterbarakan.net
SUMMARY:Barakan Beat
DESCRIPTION:
URL:https://peterbarakan.net/event/barakan-beat-520
CATEGORIES:radio
END:VEVENT
END:VCALENDAR