BEGIN:VCALENDAR
VERSION:2.0
PRODID:-//peter barakan dot net - ECPv4.6.26//NONSGML v1.0//EN
CALSCALE:GREGORIAN
METHOD:PUBLISH
X-WR-CALNAME:peter barakan dot net
X-ORIGINAL-URL:https://peterbarakan.net
X-WR-CALDESC:Events for peter barakan dot net
BEGIN:VEVENT
DTSTART;TZID=Asia/Tokyo:20251214T180000
DTEND;TZID=Asia/Tokyo:20251214T200000
DTSTAMP:20260422T114150
CREATED:20251009T122036Z
LAST-MODIFIED:20251009T122036Z
UID:7021-1765735200-1765742400@peterbarakan.net
SUMMARY:Barakan Beat
DESCRIPTION:
URL:https://peterbarakan.net/event/barakan-beat-552
CATEGORIES:radio
END:VEVENT
END:VCALENDAR