BEGIN:VCALENDAR
VERSION:2.0
PRODID:-//peter barakan dot net - ECPv4.6.26//NONSGML v1.0//EN
CALSCALE:GREGORIAN
METHOD:PUBLISH
X-WR-CALNAME:peter barakan dot net
X-ORIGINAL-URL:https://peterbarakan.net
X-WR-CALDESC:Events for peter barakan dot net
BEGIN:VEVENT
DTSTART;TZID=Asia/Tokyo:20260412T180000
DTEND;TZID=Asia/Tokyo:20260412T200000
DTSTAMP:20260421T090220
CREATED:20260212T062952Z
LAST-MODIFIED:20260212T062952Z
UID:7227-1776016800-1776024000@peterbarakan.net
SUMMARY:Barakan Beat
DESCRIPTION:
URL:https://peterbarakan.net/event/barakan-beat-569
CATEGORIES:radio
END:VEVENT
END:VCALENDAR