BEGIN:VCALENDAR
VERSION:2.0
PRODID:-//peter barakan dot net - ECPv4.6.26//NONSGML v1.0//EN
CALSCALE:GREGORIAN
METHOD:PUBLISH
X-WR-CALNAME:peter barakan dot net
X-ORIGINAL-URL:https://peterbarakan.net
X-WR-CALDESC:Events for peter barakan dot net
BEGIN:VEVENT
DTSTART;TZID=Asia/Tokyo:20200523T230000
DTEND;TZID=Asia/Tokyo:20200524T000000
DTSTAMP:20260423T112219
CREATED:20200206T050835Z
LAST-MODIFIED:20200206T050835Z
UID:3595-1590274800-1590278400@peterbarakan.net
SUMMARY:Barakan Switch
DESCRIPTION:
URL:https://peterbarakan.net/event/barakan-switch-9
CATEGORIES:radio
END:VEVENT
END:VCALENDAR