BEGIN:VCALENDAR
VERSION:2.0
PRODID:-//peter barakan dot net - ECPv4.6.26//NONSGML v1.0//EN
CALSCALE:GREGORIAN
METHOD:PUBLISH
X-WR-CALNAME:peter barakan dot net
X-ORIGINAL-URL:https://peterbarakan.net
X-WR-CALDESC:Events for peter barakan dot net
BEGIN:VEVENT
DTSTART;TZID=Asia/Tokyo:20250417T193000
DTEND;TZID=Asia/Tokyo:20250417T210000
DTSTAMP:20260419T212800
CREATED:20250324T024731Z
LAST-MODIFIED:20250324T024731Z
UID:6738-1744918200-1744923600@peterbarakan.net
SUMMARY:DJ+トーク＠三軒茶屋
DESCRIPTION:初めてDJをするところです。「ぼくのルーツミュージック」というテーマで、近藤陽太さんの質問に答えながら音楽を紹介します。 \n
URL:https://peterbarakan.net/event/dj%e3%83%88%e3%83%bc%e3%82%af%ef%bc%a0%e4%b8%89%e8%bb%92%e8%8c%b6%e5%b1%8b
LOCATION:やおやのファミリーレストラン\, 世田谷区太子堂2-17-9\, Hotel the b 2F\, 東京都\, 154-0004\, Japan
CATEGORIES:events
END:VEVENT
END:VCALENDAR