BEGIN:VCALENDAR
VERSION:2.0
PRODID:-//peter barakan dot net - ECPv4.6.26//NONSGML v1.0//EN
CALSCALE:GREGORIAN
METHOD:PUBLISH
X-WR-CALNAME:peter barakan dot net
X-ORIGINAL-URL:https://peterbarakan.net
X-WR-CALDESC:Events for peter barakan dot net
BEGIN:VEVENT
DTSTART;TZID=Asia/Tokyo:20240323T183000
DTEND;TZID=Asia/Tokyo:20240323T203000
DTSTAMP:20260424T144723
CREATED:20240213T043431Z
LAST-MODIFIED:20240213T043431Z
UID:6049-1711218600-1711225800@peterbarakan.net
SUMMARY:DJ@茅野
DESCRIPTION:長野のブルーズ・ギタリスト、ジロー・ヤマオカのご招待で、茅野の店でDJをします。テーマはやはりブルーズです。ジローさんの演奏もあります。 \n完売していますが、もし行きたい方がいたら連絡してみてください。 \n
URL:https://peterbarakan.net/event/dj%e8%8c%85%e9%87%8e
LOCATION:カントリーキッチンくるみ\, 茅野市茅野236-7\, 長野県\, 391-0001\, Japan
CATEGORIES:events
END:VEVENT
END:VCALENDAR