BEGIN:VCALENDAR
VERSION:2.0
PRODID:-//peter barakan dot net - ECPv4.6.26//NONSGML v1.0//EN
CALSCALE:GREGORIAN
METHOD:PUBLISH
X-WR-CALNAME:peter barakan dot net
X-ORIGINAL-URL:https://peterbarakan.net
X-WR-CALDESC:Events for peter barakan dot net
BEGIN:VEVENT
DTSTART;TZID=Asia/Tokyo:20230826T140000
DTEND;TZID=Asia/Tokyo:20230826T160000
DTSTAMP:20260425T183650
CREATED:20230803T034239Z
LAST-MODIFIED:20230803T034239Z
UID:5653-1693058400-1693065600@peterbarakan.net
SUMMARY:DJ @ 下北沢
DESCRIPTION:毎月行っているイヴェント、今回は特別に9/1-21開催される音楽映画祭の解説をしながら音楽を紹介します。 \n
URL:https://peterbarakan.net/event/dj-%e4%b8%8b%e5%8c%97%e6%b2%a2-7
LOCATION:3313アナログ天国\, 杉並区西荻北4-30-4\, 東京都\, 167-0042\, Japan
CATEGORIES:events
END:VEVENT
END:VCALENDAR