BEGIN:VCALENDAR
VERSION:2.0
PRODID:-//peter barakan dot net - ECPv4.6.26//NONSGML v1.0//EN
CALSCALE:GREGORIAN
METHOD:PUBLISH
X-WR-CALNAME:peter barakan dot net
X-ORIGINAL-URL:https://peterbarakan.net
X-WR-CALDESC:Events for peter barakan dot net
BEGIN:VEVENT
DTSTART;TZID=Asia/Tokyo:20250802T173000
DTEND;TZID=Asia/Tokyo:20250802T193000
DTSTAMP:20260419T215658
CREATED:20250606T001555Z
LAST-MODIFIED:20250606T001555Z
UID:6903-1754155800-1754163000@peterbarakan.net
SUMMARY:DJ @ 大阪
DESCRIPTION:今年もこのイヴェントを行います。今回のテーマはボブ・ディランです。 \n
URL:https://peterbarakan.net/event/dj-%e5%a4%a7%e9%98%aa-9
LOCATION:シアターセブン\, 大阪市淀川区十三本町1-7-27\, サンポートシティ5F\, 大阪府\, 532-0024\, Japan
CATEGORIES:events
END:VEVENT
END:VCALENDAR