BEGIN:VCALENDAR
VERSION:2.0
PRODID:-//peter barakan dot net - ECPv4.6.26//NONSGML v1.0//EN
CALSCALE:GREGORIAN
METHOD:PUBLISH
X-WR-CALNAME:peter barakan dot net
X-ORIGINAL-URL:https://peterbarakan.net
X-WR-CALDESC:Events for peter barakan dot net
BEGIN:VEVENT
DTSTART;TZID=Asia/Tokyo:20200320T060000
DTEND;TZID=Asia/Tokyo:20200320T200000
DTSTAMP:20260419T141852
CREATED:20200127T064555Z
LAST-MODIFIED:20200127T064555Z
UID:3504-1584684000-1584734400@peterbarakan.net
SUMMARY:DJ @ 嬉野
DESCRIPTION:春の時期に恒例になりつつあるイヴェントです。広々とした畳の宴会場で、いいオーディオを使ってのんびりとお酒を飲みながら音楽を聞きませんか。今回のテーマは「越境する音楽」です。 \n
URL:https://peterbarakan.net/event/dj-%e5%ac%89%e9%87%8e-2
LOCATION:旅館大村屋\, 嬉野市嬉野町大字下宿乙848\, 佐賀県\, 843-0301\, Japan
CATEGORIES:events
END:VEVENT
END:VCALENDAR