BEGIN:VCALENDAR
VERSION:2.0
PRODID:-//peter barakan dot net - ECPv4.6.26//NONSGML v1.0//EN
CALSCALE:GREGORIAN
METHOD:PUBLISH
X-WR-CALNAME:peter barakan dot net
X-ORIGINAL-URL:https://peterbarakan.net
X-WR-CALDESC:Events for peter barakan dot net
BEGIN:VEVENT
DTSTART;TZID=Asia/Tokyo:20260620T150000
DTEND;TZID=Asia/Tokyo:20260620T170000
DTSTAMP:20260424T083320
CREATED:20260402T000607Z
LAST-MODIFIED:20260402T000607Z
UID:7430-1781967600-1781974800@peterbarakan.net
SUMMARY:DJ @ 新潟
DESCRIPTION:毎年のイヴェントですが、今回会場は変わります。 \n申し込みはunique21mayumi@gmail.com　（090-1375-5393） \n
URL:https://peterbarakan.net/event/dj-%e6%96%b0%e6%bd%9f-7
LOCATION:三社神社\, 新潟市中央区三和町1-1\, 新潟県\, 950-0081\, Japan
CATEGORIES:events
END:VEVENT
END:VCALENDAR