BEGIN:VCALENDAR
VERSION:2.0
PRODID:-//peter barakan dot net - ECPv4.6.26//NONSGML v1.0//EN
CALSCALE:GREGORIAN
METHOD:PUBLISH
X-WR-CALNAME:peter barakan dot net
X-ORIGINAL-URL:https://peterbarakan.net
X-WR-CALDESC:Events for peter barakan dot net
BEGIN:VEVENT
DTSTART;TZID=Asia/Tokyo:20230616T193000
DTEND;TZID=Asia/Tokyo:20230616T213000
DTSTAMP:20260424T165408
CREATED:20230601T065148Z
LAST-MODIFIED:20230601T065148Z
UID:5526-1686943800-1686951000@peterbarakan.net
SUMMARY:DJ @ 浦安
DESCRIPTION:初めて浦安でDJをします。小さな店でスタンディングです。まずRuri Matsumuraさんの歌があって、その後に登場します。 \n
URL:https://peterbarakan.net/event/dj-%e6%b5%a6%e5%ae%89
LOCATION:Seagull\, 浦安市当代島1-3-30\, 干葉県\, 279-0001\, Japan
CATEGORIES:events
END:VEVENT
END:VCALENDAR