BEGIN:VCALENDAR
VERSION:2.0
PRODID:-//peter barakan dot net - ECPv4.6.26//NONSGML v1.0//EN
CALSCALE:GREGORIAN
METHOD:PUBLISH
X-WR-CALNAME:peter barakan dot net
X-ORIGINAL-URL:https://peterbarakan.net
X-WR-CALDESC:Events for peter barakan dot net
BEGIN:VEVENT
DTSTART;TZID=Asia/Tokyo:20240614T190000
DTEND;TZID=Asia/Tokyo:20240614T210000
DTSTAMP:20260419T211432
CREATED:20240417T052305Z
LAST-MODIFIED:20240417T052305Z
UID:6210-1718391600-1718398800@peterbarakan.net
SUMMARY:DJ @ 熊本
DESCRIPTION:久し振りの熊本です。今回は日本の音楽を特集します。 \n
URL:https://peterbarakan.net/event/dj-%e7%86%8a%e6%9c%ac-6
LOCATION:tsukimi\, 熊本市中央区南千反畑町1−3\, 満月ビル2F\, 熊本県\, 860-0842\, Japan
CATEGORIES:events
END:VEVENT
END:VCALENDAR