BEGIN:VCALENDAR
VERSION:2.0
PRODID:-//peter barakan dot net - ECPv4.6.26//NONSGML v1.0//EN
CALSCALE:GREGORIAN
METHOD:PUBLISH
X-WR-CALNAME:peter barakan dot net
X-ORIGINAL-URL:https://peterbarakan.net
X-WR-CALDESC:Events for peter barakan dot net
BEGIN:VEVENT
DTSTART;TZID=Asia/Tokyo:20240120T143000
DTEND;TZID=Asia/Tokyo:20240120T163000
DTSTAMP:20260421T201341
CREATED:20231224T081322Z
LAST-MODIFIED:20231224T081322Z
UID:5924-1705761000-1705768200@peterbarakan.net
SUMMARY:DJ @ 神戸
DESCRIPTION:初めて神戸でDJをします。テーマは「世代を超える音楽」です。 \n
URL:https://peterbarakan.net/event/dj-%e7%a5%9e%e6%88%b8
LOCATION:ラズリカフェ ホール\, 神戸市中央区楠町7-3-2\, 兵庫県\, 650-0017\, Japan
CATEGORIES:events
END:VEVENT
END:VCALENDAR