BEGIN:VCALENDAR
VERSION:2.0
PRODID:-//peter barakan dot net - ECPv4.6.26//NONSGML v1.0//EN
CALSCALE:GREGORIAN
METHOD:PUBLISH
X-WR-CALNAME:peter barakan dot net
X-ORIGINAL-URL:https://peterbarakan.net
X-WR-CALDESC:Events for peter barakan dot net
BEGIN:VEVENT
DTSTART;TZID=Asia/Tokyo:20250503T180000
DTEND;TZID=Asia/Tokyo:20250503T200000
DTSTAMP:20260420T024003
CREATED:20250324T031938Z
LAST-MODIFIED:20250324T031938Z
UID:6777-1746295200-1746302400@peterbarakan.net
SUMMARY:DJ @ 築地
DESCRIPTION:臼井ミトンさんのライヴとぼくのDJのイヴェントです。テーマはニュー・オーリンズ！ \n
URL:https://peterbarakan.net/event/dj-%e7%af%89%e5%9c%b0
LOCATION:Blue Mood\, 中央区築地5-6-10\, 浜離宮パークサイドプレイス1F\, 東京都\, 104-0045\, Japan
CATEGORIES:events
END:VEVENT
END:VCALENDAR