BEGIN:VCALENDAR
VERSION:2.0
PRODID:-//peter barakan dot net - ECPv4.6.26//NONSGML v1.0//EN
CALSCALE:GREGORIAN
METHOD:PUBLISH
X-WR-CALNAME:peter barakan dot net
X-ORIGINAL-URL:https://peterbarakan.net
X-WR-CALDESC:Events for peter barakan dot net
BEGIN:VEVENT
DTSTART;TZID=Asia/Tokyo:20250616T190000
DTEND;TZID=Asia/Tokyo:20250616T210000
DTSTAMP:20260419T215712
CREATED:20250605T034205Z
LAST-MODIFIED:20250605T034205Z
UID:6859-1750100400-1750107600@peterbarakan.net
SUMMARY:DJ @ 虎ノ門
DESCRIPTION:この会場で2回目です。今回は「僕に魔法をかけたあの映画、あのサウンド」というタイトルで、映画音楽の作曲家として知られる周防義和さんをゲストに迎えて、映画と音楽をテーマにピンポン・スタイルで1曲ずつ打ち合って進めます。 \n
URL:https://peterbarakan.net/event/dj-%e8%99%8e%e3%83%8e%e9%96%80-2
LOCATION:Rethink Lounge Toranomon\, 港区虎ノ門2-2-1\, 住友不動産虎ノ門タワー1F\, 東京都\, 105-0001\, Japan
CATEGORIES:events
END:VEVENT
END:VCALENDAR