BEGIN:VCALENDAR
VERSION:2.0
PRODID:-//peter barakan dot net - ECPv4.6.26//NONSGML v1.0//EN
CALSCALE:GREGORIAN
METHOD:PUBLISH
X-WR-CALNAME:peter barakan dot net
X-ORIGINAL-URL:https://peterbarakan.net
X-WR-CALDESC:Events for peter barakan dot net
BEGIN:VEVENT
DTSTART;TZID=Asia/Tokyo:20230225T190000
DTEND;TZID=Asia/Tokyo:20230225T210000
DTSTAMP:20260425T002501
CREATED:20221230T033143Z
LAST-MODIFIED:20221230T033143Z
UID:5346-1677351600-1677358800@peterbarakan.net
SUMMARY:DJ @ 豊田
DESCRIPTION:中央線豊田駅の近くにあるバーRetro Cafeで初めてDJをします。 \n
URL:https://peterbarakan.net/event/dj-%e8%b1%8a%e7%94%b0
LOCATION:Retro Cafe\, 日野市多摩平1-2-8\, 東京都\, 191-0062\, Japan
CATEGORIES:events
END:VEVENT
END:VCALENDAR