BEGIN:VCALENDAR
VERSION:2.0
PRODID:-//peter barakan dot net - ECPv4.6.26//NONSGML v1.0//EN
CALSCALE:GREGORIAN
METHOD:PUBLISH
X-WR-CALNAME:peter barakan dot net
X-ORIGINAL-URL:https://peterbarakan.net
X-WR-CALDESC:Events for peter barakan dot net
BEGIN:VEVENT
DTSTART;TZID=Asia/Tokyo:20231216T140000
DTEND;TZID=Asia/Tokyo:20231216T160000
DTSTAMP:20260421T174634
CREATED:20231224T075854Z
LAST-MODIFIED:20231224T075854Z
UID:5913-1702735200-1702742400@peterbarakan.net
SUMMARY:DJ @ 3313
DESCRIPTION:
URL:https://peterbarakan.net/event/dj-3313-2
LOCATION:3313アナログ天国\, 杉並区西荻北4-30-4\, 東京都\, 167-0042\, Japan
CATEGORIES:events
END:VEVENT
END:VCALENDAR