BEGIN:VCALENDAR
VERSION:2.0
PRODID:-//peter barakan dot net - ECPv4.6.26//NONSGML v1.0//EN
CALSCALE:GREGORIAN
METHOD:PUBLISH
X-WR-CALNAME:peter barakan dot net
X-ORIGINAL-URL:https://peterbarakan.net
X-WR-CALDESC:Events for peter barakan dot net
BEGIN:VEVENT
DTSTART;TZID=Asia/Tokyo:20190107T183000
DTEND;TZID=Asia/Tokyo:20190107T193000
DTSTAMP:20260422T085059
CREATED:20181129T005203Z
LAST-MODIFIED:20181129T005203Z
UID:2690-1546885800-1546889400@peterbarakan.net
SUMMARY:DJ@Club Quattro
DESCRIPTION:先日91歳で亡くなったサックス奏者Big Jay McNeelyに対するBloodest Saxophoneのトリビュート・コンサートの開演前、6時半から7時半の1時間、ゴキゲンなR&Bをかけまくります！ \n
URL:https://peterbarakan.net/event/djclub-quattro
LOCATION:クラブクアトロ\, 渋谷区宇田川町 32-13\, 4・5F\, 東京都\, 150-0042\, Japan
CATEGORIES:events
END:VEVENT
END:VCALENDAR