BEGIN:VCALENDAR
VERSION:2.0
PRODID:-//peter barakan dot net - ECPv4.6.26//NONSGML v1.0//EN
CALSCALE:GREGORIAN
METHOD:PUBLISH
X-WR-CALNAME:peter barakan dot net
X-ORIGINAL-URL:https://peterbarakan.net
X-WR-CALDESC:Events for peter barakan dot net
BEGIN:VEVENT
DTSTART;TZID=Asia/Tokyo:20191122T183000
DTEND;TZID=Asia/Tokyo:20191122T190000
DTSTAMP:20260419T185615
CREATED:20190815T015857Z
LAST-MODIFIED:20190815T015857Z
UID:3245-1574447400-1574449200@peterbarakan.net
SUMMARY:Lifestyle Museum
DESCRIPTION:
URL:https://peterbarakan.net/event/lifestyle-museum-241
CATEGORIES:radio
END:VEVENT
END:VCALENDAR