BEGIN:VCALENDAR
VERSION:2.0
PRODID:-//peter barakan dot net - ECPv4.6.26//NONSGML v1.0//EN
CALSCALE:GREGORIAN
METHOD:PUBLISH
X-WR-CALNAME:peter barakan dot net
X-ORIGINAL-URL:https://peterbarakan.net
X-WR-CALDESC:Events for peter barakan dot net
BEGIN:VEVENT
DTSTART;TZID=Asia/Tokyo:20200417T183000
DTEND;TZID=Asia/Tokyo:20200417T190000
DTSTAMP:20260423T125119
CREATED:20200206T045519Z
LAST-MODIFIED:20200206T045519Z
UID:3559-1587148200-1587150000@peterbarakan.net
SUMMARY:Lifestyle Museum
DESCRIPTION:
URL:https://peterbarakan.net/event/lifestyle-museum-262
CATEGORIES:radio
END:VEVENT
END:VCALENDAR