BEGIN:VCALENDAR
VERSION:2.0
PRODID:-//peter barakan dot net - ECPv4.6.26//NONSGML v1.0//EN
CALSCALE:GREGORIAN
METHOD:PUBLISH
X-WR-CALNAME:peter barakan dot net
X-ORIGINAL-URL:https://peterbarakan.net
X-WR-CALDESC:Events for peter barakan dot net
BEGIN:VEVENT
DTSTART;TZID=Asia/Tokyo:20231215T183000
DTEND;TZID=Asia/Tokyo:20231215T190000
DTSTAMP:20260421T155650
CREATED:20231101T072256Z
LAST-MODIFIED:20231101T072256Z
UID:5877-1702665000-1702666800@peterbarakan.net
SUMMARY:Lifestyle Museum
DESCRIPTION:
URL:https://peterbarakan.net/event/lifestyle-museum-453
CATEGORIES:radio
END:VEVENT
END:VCALENDAR