BEGIN:VCALENDAR
VERSION:2.0
PRODID:-//peter barakan dot net - ECPv4.6.26//NONSGML v1.0//EN
CALSCALE:GREGORIAN
METHOD:PUBLISH
X-WR-CALNAME:peter barakan dot net
X-ORIGINAL-URL:https://peterbarakan.net
X-WR-CALDESC:Events for peter barakan dot net
BEGIN:VEVENT
DTSTART;TZID=Asia/Tokyo:20250829T183000
DTEND;TZID=Asia/Tokyo:20250829T190000
DTSTAMP:20260419T172034
CREATED:20250605T035730Z
LAST-MODIFIED:20250605T035730Z
UID:6889-1756492200-1756494000@peterbarakan.net
SUMMARY:Lifestyle Museum
DESCRIPTION:
URL:https://peterbarakan.net/event/lifestyle-museum-540
CATEGORIES:radio
END:VEVENT
END:VCALENDAR