BEGIN:VCALENDAR
VERSION:2.0
PRODID:-//peter barakan dot net - ECPv4.6.26//NONSGML v1.0//EN
CALSCALE:GREGORIAN
METHOD:PUBLISH
X-WR-CALNAME:peter barakan dot net
X-ORIGINAL-URL:https://peterbarakan.net
X-WR-CALDESC:Events for peter barakan dot net
BEGIN:VEVENT
DTSTART;TZID=Asia/Tokyo:20161202T063000
DTEND;TZID=Asia/Tokyo:20161202T190000
DTSTAMP:20260423T181837
CREATED:20161028T022440Z
LAST-MODIFIED:20161028T022440Z
UID:1152-1480660200-1480705200@peterbarakan.net
SUMMARY:Lifestyle Museum
DESCRIPTION:
URL:https://peterbarakan.net/event/lifestyle-museum-86
CATEGORIES:radio
END:VEVENT
END:VCALENDAR