BEGIN:VCALENDAR
VERSION:2.0
PRODID:-//peter barakan dot net - ECPv4.6.26//NONSGML v1.0//EN
CALSCALE:GREGORIAN
METHOD:PUBLISH
X-WR-CALNAME:peter barakan dot net
X-ORIGINAL-URL:https://peterbarakan.net
X-WR-CALDESC:Events for peter barakan dot net
BEGIN:VEVENT
DTSTART;TZID=Asia/Tokyo:20191020T130000
DTEND;TZID=Asia/Tokyo:20191020T203000
DTSTAMP:20260419T202824
CREATED:20190815T023457Z
LAST-MODIFIED:20190815T023457Z
UID:3288-1571576400-1571603400@peterbarakan.net
SUMMARY:Live Magic 2019
DESCRIPTION:今年の詳細はlivemagic.jpでご確認ください。 \n
URL:https://peterbarakan.net/event/live-magic-2019-2
LOCATION:恵比寿ザ・ガーデンホール / ルーム\, 東京都目黒区三田1-13-2\, 153-0062\, Japan
CATEGORIES:events
END:VEVENT
END:VCALENDAR