BEGIN:VCALENDAR
VERSION:2.0
PRODID:-//peter barakan dot net - ECPv4.6.26//NONSGML v1.0//EN
CALSCALE:GREGORIAN
METHOD:PUBLISH
X-WR-CALNAME:peter barakan dot net
X-ORIGINAL-URL:https://peterbarakan.net
X-WR-CALDESC:Events for peter barakan dot net
BEGIN:VEVENT
DTSTART;TZID=Asia/Tokyo:20200711T072000
DTEND;TZID=Asia/Tokyo:20200711T090000
DTSTAMP:20260423T214437
CREATED:20200624T065446Z
LAST-MODIFIED:20200624T065446Z
UID:3672-1594452000-1594458000@peterbarakan.net
SUMMARY:Weekend Sunshine
DESCRIPTION:
URL:https://peterbarakan.net/event/weekend-sunshine-263
CATEGORIES:radio
END:VEVENT
END:VCALENDAR