BEGIN:VCALENDAR
VERSION:2.0
PRODID:-//peter barakan dot net - ECPv4.6.26//NONSGML v1.0//EN
CALSCALE:GREGORIAN
METHOD:PUBLISH
X-WR-CALNAME:peter barakan dot net
X-ORIGINAL-URL:https://peterbarakan.net
X-WR-CALDESC:Events for peter barakan dot net
BEGIN:VEVENT
DTSTART;TZID=Asia/Tokyo:20201010T072000
DTEND;TZID=Asia/Tokyo:20201010T090000
DTSTAMP:20260420T180246
CREATED:20200925T090241Z
LAST-MODIFIED:20200925T090241Z
UID:3833-1602314400-1602320400@peterbarakan.net
SUMMARY:Weekend Sunshine
DESCRIPTION:
URL:https://peterbarakan.net/event/weekend-sunshine-276
CATEGORIES:radio
END:VEVENT
END:VCALENDAR