BEGIN:VCALENDAR
VERSION:2.0
PRODID:-//peter barakan dot net - ECPv4.6.26//NONSGML v1.0//EN
CALSCALE:GREGORIAN
METHOD:PUBLISH
X-WR-CALNAME:peter barakan dot net
X-ORIGINAL-URL:https://peterbarakan.net
X-WR-CALDESC:Events for peter barakan dot net
BEGIN:VEVENT
DTSTART;TZID=Asia/Tokyo:20240113T072000
DTEND;TZID=Asia/Tokyo:20240113T090000
DTSTAMP:20260423T100009
CREATED:20231101T071757Z
LAST-MODIFIED:20231101T071757Z
UID:5867-1705130400-1705136400@peterbarakan.net
SUMMARY:Weekend Sunshine
DESCRIPTION:
URL:https://peterbarakan.net/event/weekend-sunshine-435
CATEGORIES:radio
END:VEVENT
END:VCALENDAR