BEGIN:VCALENDAR
VERSION:2.0
PRODID:-//peter barakan dot net - ECPv4.6.26//NONSGML v1.0//EN
CALSCALE:GREGORIAN
METHOD:PUBLISH
X-WR-CALNAME:peter barakan dot net
X-ORIGINAL-URL:https://peterbarakan.net
X-WR-CALDESC:Events for peter barakan dot net
BEGIN:VEVENT
DTSTART;TZID=Asia/Tokyo:20231122T190000
DTEND;TZID=Asia/Tokyo:20231122T210000
DTSTAMP:20260425T112453
CREATED:20231028T134356Z
LAST-MODIFIED:20231028T134356Z
UID:5824-1700679600-1700686800@peterbarakan.net
SUMMARY:With The Beatles試聴会
DESCRIPTION:レーザー・ターンテーブルでお馴染のELP社の竹内さんの企画で、ビートルズの全アルバムの発売からちょうど60年の記念日にオリジナル盤のLPをイヴェント形式で聞くものです。今回は2作目のWith The Beatles、1963年11月22日に発売されたのでこの日に開催します。藤本国彦さんと2人で出演します。 \n
URL:https://peterbarakan.net/event/with-the-beatles%e8%a9%a6%e8%81%b4%e4%bc%9a
LOCATION:ジェミニ・シアター\, 世田谷区玉川3-20-11\, マノア玉川第1 B1\, 東京都\, 158-0094\, Japan
CATEGORIES:events
END:VEVENT
END:VCALENDAR